BEGIN:VCALENDAR
VERSION:2.0
PRODID:-//LatinOGs - ECPv6.15.12.2//NONSGML v1.0//EN
CALSCALE:GREGORIAN
METHOD:PUBLISH
X-WR-CALNAME:LatinOGs
X-ORIGINAL-URL:https://latinogs.com
X-WR-CALDESC:Veranstaltungen für LatinOGs
REFRESH-INTERVAL;VALUE=DURATION:PT1H
X-Robots-Tag:noindex
X-PUBLISHED-TTL:PT1H
BEGIN:VTIMEZONE
TZID:America/Los_Angeles
BEGIN:DAYLIGHT
TZOFFSETFROM:-0800
TZOFFSETTO:-0700
TZNAME:PDT
DTSTART:20250309T100000
END:DAYLIGHT
BEGIN:STANDARD
TZOFFSETFROM:-0700
TZOFFSETTO:-0800
TZNAME:PST
DTSTART:20251102T090000
END:STANDARD
BEGIN:DAYLIGHT
TZOFFSETFROM:-0800
TZOFFSETTO:-0700
TZNAME:PDT
DTSTART:20260308T100000
END:DAYLIGHT
BEGIN:STANDARD
TZOFFSETFROM:-0700
TZOFFSETTO:-0800
TZNAME:PST
DTSTART:20261101T090000
END:STANDARD
BEGIN:DAYLIGHT
TZOFFSETFROM:-0800
TZOFFSETTO:-0700
TZNAME:PDT
DTSTART:20270314T100000
END:DAYLIGHT
BEGIN:STANDARD
TZOFFSETFROM:-0700
TZOFFSETTO:-0800
TZNAME:PST
DTSTART:20271107T090000
END:STANDARD
END:VTIMEZONE
BEGIN:VTIMEZONE
TZID:UTC
BEGIN:STANDARD
TZOFFSETFROM:+0000
TZOFFSETTO:+0000
TZNAME:UTC
DTSTART:20250101T000000
END:STANDARD
END:VTIMEZONE
BEGIN:VEVENT
DTSTART;VALUE=DATE:20260221
DTEND;VALUE=DATE:20260222
DTSTAMP:20260422T051537
CREATED:20251015T124658Z
LAST-MODIFIED:20251021T073434Z
UID:2617-1771632000-1771718399@latinogs.com
SUMMARY:Rio Carnival 2026
DESCRIPTION:LatinOGs Live on Stage – am berühmten Copacabana und Ipanema Strand\, wo die Atmosphäre voller Partys und Musik ist. \nRio Carnival Festival. February 13th to February 21st\, 2026. \nRio Carnival is the greatest show on Earth and the biggest event of the Brazilian cultural calendar \nhttps://www.riocarnaval.org/
URL:https://latinogs.com/event/rio-carnival-2026/
CATEGORIES:Live
ATTACH;FMTTYPE=image/jpeg:https://latinogs.com/wp-content/uploads/2025/10/2026-Brazilian-Carnival.jpg
END:VEVENT
BEGIN:VEVENT
DTSTART;VALUE=DATE:20260214
DTEND;VALUE=DATE:20260303
DTSTAMP:20260422T051537
CREATED:20240906T191840Z
LAST-MODIFIED:20251021T073354Z
UID:504-1771027200-1772495999@latinogs.com
SUMMARY:Nizza Carneval 2026
DESCRIPTION:LatinOGs Aftershow Party \nKarneval in Nizza & Zitronenfest \n14.02. bis 02.03.2026 \nReggaeton Music \nCarnaval de Nice 2026 „Vive la Reine“ \nadress : Place Masséna\, 06000 Nice
URL:https://latinogs.com/event/soulful-sessions-house-deep-techno/
LOCATION:Projects Entry – Home Slider
CATEGORIES:Dance,Live
ATTACH;FMTTYPE=image/jpeg:https://latinogs.com/wp-content/uploads/2024/09/2026-Nizza-Carnival.jpg
END:VEVENT
END:VCALENDAR