BEGIN:VCALENDAR
VERSION:2.0
PRODID:-//LatinOGs - ECPv6.15.12.2//NONSGML v1.0//EN
CALSCALE:GREGORIAN
METHOD:PUBLISH
X-WR-CALNAME:LatinOGs
X-ORIGINAL-URL:https://latinogs.com
X-WR-CALDESC:Veranstaltungen für LatinOGs
REFRESH-INTERVAL;VALUE=DURATION:PT1H
X-Robots-Tag:noindex
X-PUBLISHED-TTL:PT1H
BEGIN:VTIMEZONE
TZID:UTC
BEGIN:STANDARD
TZOFFSETFROM:+0000
TZOFFSETTO:+0000
TZNAME:UTC
DTSTART:20250101T000000
END:STANDARD
END:VTIMEZONE
BEGIN:VTIMEZONE
TZID:America/Los_Angeles
BEGIN:DAYLIGHT
TZOFFSETFROM:-0800
TZOFFSETTO:-0700
TZNAME:PDT
DTSTART:20250309T100000
END:DAYLIGHT
BEGIN:STANDARD
TZOFFSETFROM:-0700
TZOFFSETTO:-0800
TZNAME:PST
DTSTART:20251102T090000
END:STANDARD
BEGIN:DAYLIGHT
TZOFFSETFROM:-0800
TZOFFSETTO:-0700
TZNAME:PDT
DTSTART:20260308T100000
END:DAYLIGHT
BEGIN:STANDARD
TZOFFSETFROM:-0700
TZOFFSETTO:-0800
TZNAME:PST
DTSTART:20261101T090000
END:STANDARD
BEGIN:DAYLIGHT
TZOFFSETFROM:-0800
TZOFFSETTO:-0700
TZNAME:PDT
DTSTART:20270314T100000
END:DAYLIGHT
BEGIN:STANDARD
TZOFFSETFROM:-0700
TZOFFSETTO:-0800
TZNAME:PST
DTSTART:20271107T090000
END:STANDARD
END:VTIMEZONE
BEGIN:VEVENT
DTSTART;VALUE=DATE:20260919
DTEND;VALUE=DATE:20261005
DTSTAMP:20260422T034444
CREATED:20240828T174325Z
LAST-MODIFIED:20251002T131218Z
UID:2272-1789776000-1791158399@latinogs.com
SUMMARY:Oktoberfest 2026 LatinOGs Meeting
DESCRIPTION:
URL:https://latinogs.com/event/cocktail-long-night-party/
LOCATION:Projects Entry – Home Slider
CATEGORIES:Night
ATTACH;FMTTYPE=image/jpeg:https://latinogs.com/wp-content/uploads/2024/08/2026-Oktoberfest-Party-Kopie.jpg
END:VEVENT
BEGIN:VEVENT
DTSTART;VALUE=DATE:20261001
DTEND;VALUE=DATE:20261002
DTSTAMP:20260422T034444
CREATED:20251015T123145Z
LAST-MODIFIED:20251016T071645Z
UID:2615-1790812800-1790899199@latinogs.com
SUMMARY:DJ San Antonio World Tour 2027 #GoldenCondom
DESCRIPTION:#GoldenCondom #Rockbitch \nWeitere Infos und Termine folgen
URL:https://latinogs.com/event/dj-san-antonio-world-tour-2027-goldencondom/
CATEGORIES:Dance,Night
ATTACH;FMTTYPE=image/jpeg:https://latinogs.com/wp-content/uploads/2025/10/2027-GoldenCondom.jpg
END:VEVENT
BEGIN:VEVENT
DTSTART;VALUE=DATE:20261022
DTEND;VALUE=DATE:20261026
DTSTAMP:20260422T034444
CREATED:20250930T072326Z
LAST-MODIFIED:20251006T072926Z
UID:2506-1792627200-1792972799@latinogs.com
SUMMARY:Venus LatinOGs Aftershow Party
DESCRIPTION:LatinOGs 2026\nam 22.10.2026 ─ 25.10.2026 –
URL:https://latinogs.com/event/venus-latinogs-aftershow-party/
CATEGORIES:Night
ATTACH;FMTTYPE=image/jpeg:https://latinogs.com/wp-content/uploads/2025/09/2026-Venus.jpg
END:VEVENT
BEGIN:VEVENT
DTSTART;TZID=UTC:20270813T220000
DTEND;TZID=UTC:20270814T060000
DTSTAMP:20260422T034444
CREATED:20240906T184156Z
LAST-MODIFIED:20251006T092700Z
UID:490-1818194400-1818223200@latinogs.com
SUMMARY:Polyamorős Party 2026
DESCRIPTION:Step into a glowing world of lights and beats with Neon Nights: Electro Rave at Buzz Club! This event is all about vibrant energy\, pulsing electro rhythms\, and a dazzling visual experience. Decked out with neon decor\, UV lights\, and glow-in-the-dark elements\, Neon Nights invites you to dress up\, light up\, and dance the night away under a kaleidoscope of color. Featuring top electro DJs spinning everything from heavy bass drops to melodic synths\, it’s a night for ravers\, party-goers\, and anyone who loves to get lost in the music. Glow sticks provided\, good vibes guaranteed.
URL:https://latinogs.com/event/neon-nights-party-electro-rave/
LOCATION:Projects Entry – Home Slider
CATEGORIES:Dance,Night
ATTACH;FMTTYPE=image/jpeg:https://latinogs.com/wp-content/uploads/2024/09/2026-Polyamore-Party.jpg
END:VEVENT
BEGIN:VEVENT
DTSTART;TZID=UTC:20270921T223000
DTEND;TZID=UTC:20270922T060000
DTSTAMP:20260422T034444
CREATED:20240906T192107Z
LAST-MODIFIED:20251021T074333Z
UID:509-1821565800-1821592800@latinogs.com
SUMMARY:Reggaeton Party
DESCRIPTION:Reggaeton Night Marbella \nLatinOGs prāsentuert Reggaeton Night Island mixed Dance and Trance Relax and Dance by the Marbella Night \n 
URL:https://latinogs.com/event/bass-in-the-basement/
LOCATION:Projects Entry – Home Slider
CATEGORIES:Dance,Night
ATTACH;FMTTYPE=image/jpeg:https://latinogs.com/wp-content/uploads/2024/09/2026-Reggaeton-Party.jpg
END:VEVENT
BEGIN:VEVENT
DTSTART;TZID=UTC:20271020T200000
DTEND;TZID=UTC:20271021T070000
DTSTAMP:20260422T034444
CREATED:20240828T174712Z
LAST-MODIFIED:20251006T074106Z
UID:1933-1824062400-1824102000@latinogs.com
SUMMARY:Latin White Temptation Tour
DESCRIPTION:Tour Innsbruck – Mailand – Dűsseldorf – Berlin – Dresden – Prag
URL:https://latinogs.com/event/kings-day-dance-party/
LOCATION:Projects Entry – Home Slider
CATEGORIES:Dance,Night
ATTACH;FMTTYPE=image/jpeg:https://latinogs.com/wp-content/uploads/2024/08/2026-White-Party.jpg
END:VEVENT
BEGIN:VEVENT
DTSTART;TZID=UTC:20271111T080000
DTEND;TZID=UTC:20271111T233000
DTSTAMP:20260422T034444
CREATED:20240828T174956Z
LAST-MODIFIED:20250929T120718Z
UID:1934-1825920000-1825975800@latinogs.com
SUMMARY:Latin Mountain Snow Night Tour
DESCRIPTION:January and February \nAustria \nkitzbűhl – Ischgl – Sankt Anton am Arlberg
URL:https://latinogs.com/event/big-city-lights-party/
LOCATION:Projects Entry – Home Slider
CATEGORIES:Live
ATTACH;FMTTYPE=image/webp:https://latinogs.com/wp-content/uploads/2024/08/event-3.webp
END:VEVENT
END:VCALENDAR