BEGIN:VCALENDAR
VERSION:2.0
PRODID:-//LatinOGs - ECPv6.15.12.2//NONSGML v1.0//EN
CALSCALE:GREGORIAN
METHOD:PUBLISH
X-WR-CALNAME:LatinOGs
X-ORIGINAL-URL:https://latinogs.com
X-WR-CALDESC:Veranstaltungen für LatinOGs
REFRESH-INTERVAL;VALUE=DURATION:PT1H
X-Robots-Tag:noindex
X-PUBLISHED-TTL:PT1H
BEGIN:VTIMEZONE
TZID:UTC
BEGIN:STANDARD
TZOFFSETFROM:+0000
TZOFFSETTO:+0000
TZNAME:UTC
DTSTART:20250101T000000
END:STANDARD
END:VTIMEZONE
BEGIN:VEVENT
DTSTART;VALUE=DATE:20260919
DTEND;VALUE=DATE:20261005
DTSTAMP:20260422T081526
CREATED:20240828T174325Z
LAST-MODIFIED:20251002T131218Z
UID:2272-1789776000-1791158399@latinogs.com
SUMMARY:Oktoberfest 2026 LatinOGs Meeting
DESCRIPTION:
URL:https://latinogs.com/event/cocktail-long-night-party/
LOCATION:Projects Entry – Home Slider
CATEGORIES:Night
ATTACH;FMTTYPE=image/jpeg:https://latinogs.com/wp-content/uploads/2024/08/2026-Oktoberfest-Party-Kopie.jpg
END:VEVENT
END:VCALENDAR